BEGIN:VCALENDAR
VERSION:2.0
PRODID:-//Beautiful Minds Club - ECPv6.15.20//NONSGML v1.0//EN
CALSCALE:GREGORIAN
METHOD:PUBLISH
X-WR-CALNAME:Beautiful Minds Club
X-ORIGINAL-URL:https://beautifulmindsclub.org
X-WR-CALDESC:Events for Beautiful Minds Club
REFRESH-INTERVAL;VALUE=DURATION:PT1H
X-Robots-Tag:noindex
X-PUBLISHED-TTL:PT1H
BEGIN:VTIMEZONE
TZID:America/New_York
BEGIN:DAYLIGHT
TZOFFSETFROM:-0500
TZOFFSETTO:-0400
TZNAME:EDT
DTSTART:20250309T070000
END:DAYLIGHT
BEGIN:STANDARD
TZOFFSETFROM:-0400
TZOFFSETTO:-0500
TZNAME:EST
DTSTART:20251102T060000
END:STANDARD
BEGIN:DAYLIGHT
TZOFFSETFROM:-0500
TZOFFSETTO:-0400
TZNAME:EDT
DTSTART:20260308T070000
END:DAYLIGHT
BEGIN:STANDARD
TZOFFSETFROM:-0400
TZOFFSETTO:-0500
TZNAME:EST
DTSTART:20261101T060000
END:STANDARD
BEGIN:DAYLIGHT
TZOFFSETFROM:-0500
TZOFFSETTO:-0400
TZNAME:EDT
DTSTART:20270314T070000
END:DAYLIGHT
BEGIN:STANDARD
TZOFFSETFROM:-0400
TZOFFSETTO:-0500
TZNAME:EST
DTSTART:20271107T060000
END:STANDARD
END:VTIMEZONE
BEGIN:VEVENT
DTSTART;TZID=America/New_York:20260425T120000
DTEND;TZID=America/New_York:20260425T143000
DTSTAMP:20260421T085153
CREATED:20260321T215102Z
LAST-MODIFIED:20260321T220716Z
UID:2637-1777118400-1777127400@beautifulmindsclub.org
SUMMARY:Lunch & Mini Golf @ Perch Putt
DESCRIPTION:Eleven stories up\, our members will enjoy a unique miniature golf experience. The brand new course features eighteen holes of miniature golf with stunning aerial views of Tysons and beyond as its impressive backdrop. In addition to mini golf\, members will find a retro Greyhound and a double decker bus that have been converted into food trucks and serve up fresh\, seasonal street food. A large collection of picnic tables ensures even big groups have plenty of room to sit and relax\, and the enticingly lively\, fun-loving atmosphere invites guests to linger. \n  \nTyson’s Corner\, VA \n  \nTickets $54.00
URL:https://beautifulmindsclub.org/event/lunch-mini-golf-perch-putt/
CATEGORIES:Excursion
ATTACH;FMTTYPE=image/jpeg:https://beautifulmindsclub.org/wp-content/uploads/2026/03/52624ABD-046D-4111-A033-E5574AFF07FD.jpg
ORGANIZER;CN="Beautiful Minds Club":MAILTO:admin@beautifulmindsclub.org
END:VEVENT
BEGIN:VEVENT
DTSTART;TZID=America/New_York:20260502T113000
DTEND;TZID=America/New_York:20260502T140000
DTSTAMP:20260421T085153
CREATED:20260412T031254Z
LAST-MODIFIED:20260412T031254Z
UID:2916-1777721400-1777730400@beautifulmindsclub.org
SUMMARY:CAROUSEL DAY at Glen Echo Park
DESCRIPTION:The BMC members can join in (rain or shine!!) on Saturday\, May 2\, 2026\, for a festival event in celebration of Glen Echo Park’s 105-year-old Dentzel carousel as it opens for the season!  In addition to riding the carousel (https://glenechopark.org/carousel) ($2 per ride or $5 for an all-day pass)\, visitors will enjoy many FREE activities throughout the Park\, including performances\, hands-on art projects\, open studios & galleries\, and more! Food options include Praline Café (https://glenechopark.org/praline) and Money Muscle BBQ food truck\, as well as cold treats from Ben & Jerry’s and Pacha Mama Juice Co. \n  \nTickets $42
URL:https://beautifulmindsclub.org/event/carousel-day-at-glen-echo-park/
CATEGORIES:Excursion
ATTACH;FMTTYPE=image/jpeg:https://beautifulmindsclub.org/wp-content/uploads/2026/04/CE48A7E2-6C21-4D0B-9717-76F2765ED880.jpg
ORGANIZER;CN="Beautiful Minds Club":MAILTO:admin@beautifulmindsclub.org
END:VEVENT
BEGIN:VEVENT
DTSTART;TZID=America/New_York:20260509T113000
DTEND;TZID=America/New_York:20260509T140000
DTSTAMP:20260421T085153
CREATED:20260412T031320Z
LAST-MODIFIED:20260412T031320Z
UID:2917-1778326200-1778335200@beautifulmindsclub.org
SUMMARY:Napoleon Experience: The Immersive Saga
DESCRIPTION:BMC members will  inside Napoleon’s world in 1817 on Saint Helena\, where the Emperor himself recounts his life. With their VR headset\, watch history unfold around them: the tense war council before Austerlitz\, the thunder of charging cuirassiers\, the ascent of the Vendôme Column\, and the icy retreat at the Berezina. Free to explore each scene\, they’ll witness strategy\, triumph\, and defeat up close. History has never felt this alive—experience Napoleon’s legend like never before. \n  \nGeorgetown\, DC \n  \nTickets $70
URL:https://beautifulmindsclub.org/event/napoleon-experience-the-immersive-saga/
CATEGORIES:Excursion
ATTACH;FMTTYPE=image/jpeg:https://beautifulmindsclub.org/wp-content/uploads/2026/04/B08358B5-9CA7-4A68-A08D-54D652DD6325.jpg
ORGANIZER;CN="Beautiful Minds Club":MAILTO:admin@beautifulmindsclub.org
END:VEVENT
BEGIN:VEVENT
DTSTART;TZID=America/New_York:20260516T150000
DTEND;TZID=America/New_York:20260516T193000
DTSTAMP:20260421T085153
CREATED:20260413T230651Z
LAST-MODIFIED:20260413T230651Z
UID:2943-1778943600-1778959800@beautifulmindsclub.org
SUMMARY:Orioles at Nationals
DESCRIPTION:The BMC members will enjoy a metro ride to a baseball game to the Nationals Park. \n  \nTickets $120
URL:https://beautifulmindsclub.org/event/orioles-at-nationals/
CATEGORIES:Excursion
ATTACH;FMTTYPE=image/jpeg:https://beautifulmindsclub.org/wp-content/uploads/2026/04/82B2A0B5-F13D-4C35-8A1E-417676DFF85D.jpg
ORGANIZER;CN="Beautiful Minds Club":MAILTO:admin@beautifulmindsclub.org
END:VEVENT
BEGIN:VEVENT
DTSTART;TZID=America/New_York:20260530T113000
DTEND;TZID=America/New_York:20260530T150000
DTSTAMP:20260421T085153
CREATED:20260412T031355Z
LAST-MODIFIED:20260412T031355Z
UID:2918-1780140600-1780153200@beautifulmindsclub.org
SUMMARY:Metro to the Zoo
DESCRIPTION:The BMC members will enjoy riding the metro to the national zoo in DC where they would look at their favorite animals and have lunch together. what are you doing on memorial schedule. \n  \nTickets $ 45
URL:https://beautifulmindsclub.org/event/metro-to-the-zoo/
CATEGORIES:Excursion
ATTACH;FMTTYPE=image/jpeg:https://beautifulmindsclub.org/wp-content/uploads/2026/04/F64F953D-FD51-497E-BD12-FCFC3A48B457.jpg
ORGANIZER;CN="Beautiful Minds Club":MAILTO:admin@beautifulmindsclub.org
END:VEVENT
END:VCALENDAR